Package: DeepPINCS Version: 1.18.0 Command: /Library/Frameworks/R.framework/Resources/bin/R CMD INSTALL DeepPINCS StartedAt: 2025-11-03 15:18:28 -0500 (Mon, 03 Nov 2025) EndedAt: 2025-11-03 15:18:50 -0500 (Mon, 03 Nov 2025) EllapsedTime: 22.4 seconds RetCode: 0 Status: OK