Package: DeeDeeExperiment Version: 0.99.5 Command: /home/biocbuild/R/R/bin/R CMD INSTALL DeeDeeExperiment StartedAt: 2025-10-23 20:40:53 -0000 (Thu, 23 Oct 2025) EndedAt: 2025-10-23 20:41:34 -0000 (Thu, 23 Oct 2025) EllapsedTime: 40.3 seconds RetCode: 0 Status: OK