Package: DeeDeeExperiment Version: 0.99.5 Command: /home/biocbuild/R/R/bin/R CMD build --keep-empty-dirs --no-resave-data DeeDeeExperiment StartedAt: 2025-10-20 23:12:44 -0000 (Mon, 20 Oct 2025) EndedAt: 2025-10-20 23:14:05 -0000 (Mon, 20 Oct 2025) EllapsedTime: 81.0 seconds RetCode: 0 Status: OK PackageFile: DeeDeeExperiment_0.99.5.tar.gz PackageFileSize: 4.568 MiB