Package: DeeDeeExperiment Version: 1.0.0 Command: /home/biocbuild/bbs-3.22-bioc/R/bin/R CMD INSTALL DeeDeeExperiment StartedAt: 2025-11-06 15:22:25 -0500 (Thu, 06 Nov 2025) EndedAt: 2025-11-06 15:22:55 -0500 (Thu, 06 Nov 2025) EllapsedTime: 29.4 seconds RetCode: 0 Status: OK