Package: DeeDeeExperiment Version: 1.0.0 Command: /Library/Frameworks/R.framework/Resources/bin/R CMD check --install=check:DeeDeeExperiment.install-out.txt --library=/Library/Frameworks/R.framework/Resources/library --no-vignettes --timings DeeDeeExperiment_1.0.0.tar.gz StartedAt: 2025-11-03 20:38:43 -0500 (Mon, 03 Nov 2025) EndedAt: 2025-11-03 20:43:14 -0500 (Mon, 03 Nov 2025) EllapsedTime: 271.4 seconds RetCode: 0 Status: OK CheckDir: DeeDeeExperiment.Rcheck Warnings: 0