Package: DeconvoBuddies Version: 1.0.0 Command: E:\biocbuild\bbs-3.21-bioc\R\bin\R.exe CMD check --no-multiarch --install=check:DeconvoBuddies.install-out.txt --library=E:\biocbuild\bbs-3.21-bioc\R\library --no-vignettes --timings DeconvoBuddies_1.0.0.tar.gz StartedAt: 2025-06-13 01:14:26 -0400 (Fri, 13 Jun 2025) EndedAt: 2025-06-13 01:23:26 -0400 (Fri, 13 Jun 2025) EllapsedTime: 539.5 seconds RetCode: 0 Status: OK CheckDir: DeconvoBuddies.Rcheck Warnings: 0