Package: DeconvoBuddies Version: 1.0.1 Command: chmod a+r DeconvoBuddies -R && E:\biocbuild\bbs-3.21-bioc\R\bin\R.exe CMD build --keep-empty-dirs --no-resave-data DeconvoBuddies StartedAt: 2025-08-14 18:28:30 -0400 (Thu, 14 Aug 2025) EndedAt: 2025-08-14 18:38:55 -0400 (Thu, 14 Aug 2025) EllapsedTime: 625.4 seconds RetCode: 1 Status: ERROR PackageFile: None PackageFileSize: NA