Package: DeconvoBuddies Version: 1.0.1 Command: /home/biocbuild/bbs-3.21-bioc/R/bin/R CMD build --keep-empty-dirs --no-resave-data DeconvoBuddies StartedAt: 2025-10-15 17:06:16 -0400 (Wed, 15 Oct 2025) EndedAt: 2025-10-15 17:13:10 -0400 (Wed, 15 Oct 2025) EllapsedTime: 414.3 seconds RetCode: 1 Status: ERROR PackageFile: None PackageFileSize: NA