Package: DeconvoBuddies Version: 1.0.1 Command: /Library/Frameworks/R.framework/Resources/bin/R CMD INSTALL DeconvoBuddies StartedAt: 2025-10-13 18:16:15 -0400 (Mon, 13 Oct 2025) EndedAt: 2025-10-13 18:17:14 -0400 (Mon, 13 Oct 2025) EllapsedTime: 58.8 seconds RetCode: 0 Status: OK