Package: DeconRNASeq Version: 1.51.0 Command: /home/biocbuild/bbs-3.22-bioc/R/bin/R CMD check --install=check:DeconRNASeq.install-out.txt --library=/home/biocbuild/bbs-3.22-bioc/R/site-library --timings DeconRNASeq_1.51.0.tar.gz StartedAt: 2025-09-10 23:43:25 -0400 (Wed, 10 Sep 2025) EndedAt: 2025-09-10 23:44:28 -0400 (Wed, 10 Sep 2025) EllapsedTime: 63.0 seconds RetCode: 0 Status: OK CheckDir: DeconRNASeq.Rcheck Warnings: 0