Package: DeMAND Version: 1.38.0 Command: /home/biocbuild/R/R/bin/R CMD INSTALL DeMAND StartedAt: 2025-10-13 20:15:03 -0000 (Mon, 13 Oct 2025) EndedAt: 2025-10-13 20:15:24 -0000 (Mon, 13 Oct 2025) EllapsedTime: 21.1 seconds RetCode: 0 Status: OK