Package: DeMAND Version: 1.38.0 Command: /home/biocbuild/R/R/bin/R CMD build --keep-empty-dirs --no-resave-data DeMAND StartedAt: 2025-10-14 00:15:56 -0000 (Tue, 14 Oct 2025) EndedAt: 2025-10-14 00:16:03 -0000 (Tue, 14 Oct 2025) EllapsedTime: 7.0 seconds RetCode: 0 Status: OK PackageFile: DeMAND_1.38.0.tar.gz PackageFileSize: 311.2 KiB