Package: DeMAND Version: 1.38.0 Command: /Library/Frameworks/R.framework/Resources/bin/R CMD check --install=check:DeMAND.install-out.txt --library=/Library/Frameworks/R.framework/Resources/library --no-vignettes --timings DeMAND_1.38.0.tar.gz StartedAt: 2025-10-14 19:14:09 -0400 (Tue, 14 Oct 2025) EndedAt: 2025-10-14 19:14:35 -0400 (Tue, 14 Oct 2025) EllapsedTime: 26.9 seconds RetCode: 0 Status: OK CheckDir: DeMAND.Rcheck Warnings: 0