Package: Damsel Version: 1.4.0 Command: E:\biocbuild\bbs-3.21-bioc\R\bin\R.exe CMD check --no-multiarch --install=check:Damsel.install-out.txt --library=E:\biocbuild\bbs-3.21-bioc\R\library --no-vignettes --timings Damsel_1.4.0.tar.gz StartedAt: 2025-08-15 01:12:06 -0400 (Fri, 15 Aug 2025) EndedAt: 2025-08-15 01:16:45 -0400 (Fri, 15 Aug 2025) EllapsedTime: 278.7 seconds RetCode: 0 Status: OK CheckDir: Damsel.Rcheck Warnings: 0