Package: Damsel Version: 1.4.0 Command: chmod a+r Damsel -R && E:\biocbuild\bbs-3.21-bioc\R\bin\R.exe CMD build --keep-empty-dirs --no-resave-data Damsel StartedAt: 2025-08-14 18:24:36 -0400 (Thu, 14 Aug 2025) EndedAt: 2025-08-14 18:31:07 -0400 (Thu, 14 Aug 2025) EllapsedTime: 390.8 seconds RetCode: 0 Status: OK PackageFile: Damsel_1.4.0.tar.gz PackageFileSize: 2.07 MiB