Package: Damsel Version: 1.4.0 Command: rm -rf Damsel.buildbin-libdir && mkdir Damsel.buildbin-libdir && E:\biocbuild\bbs-3.21-bioc\R\bin\R.exe CMD INSTALL --build --library=Damsel.buildbin-libdir Damsel_1.4.0.tar.gz StartedAt: 2025-08-15 09:06:49 -0400 (Fri, 15 Aug 2025) EndedAt: 2025-08-15 09:07:22 -0400 (Fri, 15 Aug 2025) EllapsedTime: 33.8 seconds RetCode: 0 Status: OK PackageFile: Damsel_1.4.0.zip PackageFileSize: 1.996 MiB