Package: Damsel Version: 1.4.0 Command: /home/biocbuild/bbs-3.21-bioc/R/bin/R CMD INSTALL Damsel StartedAt: 2025-10-15 15:47:33 -0400 (Wed, 15 Oct 2025) EndedAt: 2025-10-15 15:47:39 -0400 (Wed, 15 Oct 2025) EllapsedTime: 5.6 seconds RetCode: 0 Status: OK