Package: Damsel Version: 1.4.0 Command: /home/biocbuild/bbs-3.21-bioc/R/bin/R CMD check --install=check:Damsel.install-out.txt --library=/home/biocbuild/bbs-3.21-bioc/R/site-library --timings Damsel_1.4.0.tar.gz StartedAt: 2025-10-15 22:19:35 -0400 (Wed, 15 Oct 2025) EndedAt: 2025-10-15 22:26:13 -0400 (Wed, 15 Oct 2025) EllapsedTime: 398.4 seconds RetCode: 0 Status: WARNINGS CheckDir: Damsel.Rcheck Warnings: 1