Package: Damsel Version: 1.4.0 Command: /home/biocbuild/R/R/bin/R CMD build --keep-empty-dirs --no-resave-data Damsel StartedAt: 2025-10-14 00:05:17 -0000 (Tue, 14 Oct 2025) EndedAt: 2025-10-14 00:09:54 -0000 (Tue, 14 Oct 2025) EllapsedTime: 277.1 seconds RetCode: 0 Status: OK PackageFile: Damsel_1.4.0.tar.gz PackageFileSize: 3.153 MiB