Package: Damsel Version: 1.4.0 Command: rm -rf Damsel.buildbin-libdir && mkdir Damsel.buildbin-libdir && /Users/biocbuild/BBS/utils/build-universal.sh Damsel_1.4.0.tar.gz /Library/Frameworks/R.framework/Resources/bin/R Damsel.buildbin-libdir StartedAt: 2025-10-15 18:08:08 -0400 (Wed, 15 Oct 2025) EndedAt: 2025-10-15 18:08:17 -0400 (Wed, 15 Oct 2025) EllapsedTime: 9.1 seconds RetCode: 0 Status: OK PackageFile: Damsel_1.4.0.tgz PackageFileSize: 3.233 MiB