Package: DaMiRseq Version: 2.20.0 Command: rm -rf DaMiRseq.buildbin-libdir && mkdir DaMiRseq.buildbin-libdir && /Users/biocbuild/BBS/utils/build-universal.sh DaMiRseq_2.20.0.tar.gz /Library/Frameworks/R.framework/Resources/bin/R DaMiRseq.buildbin-libdir StartedAt: 2025-10-14 13:11:41 -0400 (Tue, 14 Oct 2025) EndedAt: 2025-10-14 13:14:54 -0400 (Tue, 14 Oct 2025) EllapsedTime: 192.8 seconds RetCode: 0 Status: OK PackageFile: DaMiRseq_2.20.0.tgz PackageFileSize: 4.374 MiB