Package: DTA Version: 2.56.0 Command: /home/biocbuild/bbs-3.22-bioc/R/bin/R CMD build --keep-empty-dirs --no-resave-data --md5 DTA StartedAt: 2025-11-13 17:28:54 -0500 (Thu, 13 Nov 2025) EndedAt: 2025-11-13 17:33:48 -0500 (Thu, 13 Nov 2025) EllapsedTime: 294.3 seconds RetCode: 0 Status: OK PackageFile: DTA_2.56.0.tar.gz PackageFileSize: 11.2 MiB