Package: DTA Version: 2.54.0 Command: /home/biocbuild/R/R/bin/R CMD build --keep-empty-dirs --no-resave-data DTA StartedAt: 2025-10-14 00:30:32 -0000 (Tue, 14 Oct 2025) EndedAt: 2025-10-14 00:38:26 -0000 (Tue, 14 Oct 2025) EllapsedTime: 474.1 seconds RetCode: 0 Status: OK PackageFile: DTA_2.54.0.tar.gz PackageFileSize: 10.71 MiB