Package: DTA Version: 2.54.0 Command: /Library/Frameworks/R.framework/Resources/bin/R CMD check --install=check:DTA.install-out.txt --library=/Library/Frameworks/R.framework/Resources/library --no-vignettes --timings DTA_2.54.0.tar.gz StartedAt: 2025-10-14 20:18:36 -0400 (Tue, 14 Oct 2025) EndedAt: 2025-10-14 20:22:30 -0400 (Tue, 14 Oct 2025) EllapsedTime: 233.5 seconds RetCode: 0 Status: OK CheckDir: DTA.Rcheck Warnings: 0