Package: DTA Version: 2.54.0 Command: rm -rf DTA.buildbin-libdir && mkdir DTA.buildbin-libdir && /Users/biocbuild/BBS/utils/build-universal.sh DTA_2.54.0.tar.gz /Library/Frameworks/R.framework/Resources/bin/R DTA.buildbin-libdir StartedAt: 2025-10-15 18:19:13 -0400 (Wed, 15 Oct 2025) EndedAt: 2025-10-15 18:19:23 -0400 (Wed, 15 Oct 2025) EllapsedTime: 10.3 seconds RetCode: 0 Status: OK PackageFile: DTA_2.54.0.tgz PackageFileSize: 9.299 MiB