Package: DSS Version: 2.56.0 Command: /home/biocbuild/bbs-3.21-bioc/R/bin/R CMD check --install=check:DSS.install-out.txt --library=/home/biocbuild/bbs-3.21-bioc/R/site-library --timings DSS_2.56.0.tar.gz StartedAt: 2025-10-15 22:50:17 -0400 (Wed, 15 Oct 2025) EndedAt: 2025-10-15 22:55:07 -0400 (Wed, 15 Oct 2025) EllapsedTime: 289.5 seconds RetCode: 0 Status: WARNINGS CheckDir: DSS.Rcheck Warnings: 1