Package: DSS Version: 2.56.0 Command: /Library/Frameworks/R.framework/Resources/bin/R CMD build --keep-empty-dirs --no-resave-data DSS StartedAt: 2025-10-13 23:36:34 -0400 (Mon, 13 Oct 2025) EndedAt: 2025-10-13 23:37:54 -0400 (Mon, 13 Oct 2025) EllapsedTime: 79.9 seconds RetCode: 0 Status: OK PackageFile: DSS_2.56.0.tar.gz PackageFileSize: 2.029 MiB