Package: DRIMSeq Version: 1.37.0 Command: /home/biocbuild/R/R/bin/R CMD check --install=check:DRIMSeq.install-out.txt --library=/home/biocbuild/R/R/site-library --no-vignettes --timings DRIMSeq_1.37.0.tar.gz StartedAt: 2025-10-17 08:28:57 -0000 (Fri, 17 Oct 2025) EndedAt: 2025-10-17 08:33:53 -0000 (Fri, 17 Oct 2025) EllapsedTime: 296.2 seconds RetCode: 0 Status: WARNINGS CheckDir: DRIMSeq.Rcheck Warnings: 1