Package: DRIMSeq Version: 1.38.0 Command: rm -rf DRIMSeq.buildbin-libdir && mkdir DRIMSeq.buildbin-libdir && /Users/biocbuild/BBS/utils/build-universal.sh DRIMSeq_1.38.0.tar.gz /Library/Frameworks/R.framework/Resources/bin/R DRIMSeq.buildbin-libdir StartedAt: 2025-11-04 01:38:02 -0500 (Tue, 04 Nov 2025) EndedAt: 2025-11-04 01:38:24 -0500 (Tue, 04 Nov 2025) EllapsedTime: 21.5 seconds RetCode: 0 Status: OK PackageFile: DRIMSeq_1.38.0.tgz PackageFileSize: 778.6 KiB