Package: DRIMSeq Version: 1.38.0 Command: /Library/Frameworks/R.framework/Resources/bin/R CMD build --keep-empty-dirs --no-resave-data DRIMSeq StartedAt: 2025-11-06 16:16:10 -0500 (Thu, 06 Nov 2025) EndedAt: 2025-11-06 16:17:03 -0500 (Thu, 06 Nov 2025) EllapsedTime: 53.6 seconds RetCode: 0 Status: OK PackageFile: DRIMSeq_1.38.0.tar.gz PackageFileSize: 481.7 KiB