Package: DOtools Version: 0.99.11 Command: /home/biocbuild/R/R/bin/R CMD check --install=check:DOtools.install-out.txt --library=/home/biocbuild/R/R/site-library --no-vignettes --timings DOtools_0.99.11.tar.gz StartedAt: 2025-10-21 07:38:56 -0000 (Tue, 21 Oct 2025) EndedAt: 2025-10-21 07:38:57 -0000 (Tue, 21 Oct 2025) EllapsedTime: 1.0 seconds RetCode: 1 Status: ERROR CheckDir: DOtools.Rcheck Warnings: NA