Package: DOtools Version: 1.0.0 Command: /home/biocbuild/bbs-3.22-bioc/R/bin/R CMD INSTALL DOtools StartedAt: 2025-11-09 15:59:56 -0500 (Sun, 09 Nov 2025) EndedAt: 2025-11-09 16:00:47 -0500 (Sun, 09 Nov 2025) EllapsedTime: 51.4 seconds RetCode: 0 Status: OK