Package: DOSE Version: 4.2.0 Command: /Library/Frameworks/R.framework/Resources/bin/R CMD check --install=check:DOSE.install-out.txt --library=/Library/Frameworks/R.framework/Resources/library --no-vignettes --timings DOSE_4.2.0.tar.gz StartedAt: 2025-04-21 19:10:54 -0400 (Mon, 21 Apr 2025) EndedAt: 2025-04-21 19:12:06 -0400 (Mon, 21 Apr 2025) EllapsedTime: 71.9 seconds RetCode: 0 Status: OK CheckDir: DOSE.Rcheck Warnings: 0