Package: DNEA Version: 1.0.0 Command: /home/biocbuild/R/R/bin/R CMD check --install=check:DNEA.install-out.txt --library=/home/biocbuild/R/R/site-library --no-vignettes --timings DNEA_1.0.0.tar.gz StartedAt: 2025-11-11 09:14:13 -0000 (Tue, 11 Nov 2025) EndedAt: 2025-11-11 09:27:28 -0000 (Tue, 11 Nov 2025) EllapsedTime: 795.7 seconds RetCode: 0 Status: OK CheckDir: DNEA.Rcheck Warnings: 0