Package: DNEA Version: 0.99.14 Command: F:\biocbuild\bbs-3.22-bioc\R\bin\R.exe CMD INSTALL DNEA StartedAt: 2025-08-14 16:30:48 -0400 (Thu, 14 Aug 2025) EndedAt: 2025-08-14 16:32:03 -0400 (Thu, 14 Aug 2025) EllapsedTime: 75.2 seconds RetCode: 0 Status: OK