Package: DNEA Version: 1.0.0 Command: /Library/Frameworks/R.framework/Resources/bin/R CMD INSTALL DNEA StartedAt: 2025-11-03 15:39:19 -0500 (Mon, 03 Nov 2025) EndedAt: 2025-11-03 15:40:03 -0500 (Mon, 03 Nov 2025) EllapsedTime: 44.1 seconds RetCode: 0 Status: OK