Package: DNEA Version: 1.0.0 Command: /Library/Frameworks/R.framework/Resources/bin/R CMD build --keep-empty-dirs --no-resave-data DNEA StartedAt: 2025-11-03 16:51:09 -0500 (Mon, 03 Nov 2025) EndedAt: 2025-11-03 16:52:58 -0500 (Mon, 03 Nov 2025) EllapsedTime: 108.4 seconds RetCode: 0 Status: OK PackageFile: DNEA_1.0.0.tar.gz PackageFileSize: 4.381 MiB