Package: DNEA Version: 1.0.0 Command: /Library/Frameworks/R.framework/Resources/bin/R CMD check --install=check:DNEA.install-out.txt --library=/Library/Frameworks/R.framework/Resources/library --no-vignettes --timings DNEA_1.0.0.tar.gz StartedAt: 2025-11-10 19:48:34 -0500 (Mon, 10 Nov 2025) EndedAt: 2025-11-10 19:52:08 -0500 (Mon, 10 Nov 2025) EllapsedTime: 214.5 seconds RetCode: 0 Status: OK CheckDir: DNEA.Rcheck Warnings: 0