Package: DNEA Version: 1.0.0 Command: rm -rf DNEA.buildbin-libdir && mkdir DNEA.buildbin-libdir && /Users/biocbuild/BBS/utils/build-universal.sh DNEA_1.0.0.tar.gz /Library/Frameworks/R.framework/Resources/bin/R DNEA.buildbin-libdir StartedAt: 2025-11-10 23:18:26 -0500 (Mon, 10 Nov 2025) EndedAt: 2025-11-10 23:18:41 -0500 (Mon, 10 Nov 2025) EllapsedTime: 14.3 seconds RetCode: 0 Status: OK PackageFile: DNEA_1.0.0.tgz PackageFileSize: 3.525 MiB