Package: DNAfusion Version: 1.10.0 Command: E:\biocbuild\bbs-3.21-bioc\R\bin\R.exe CMD check --no-multiarch --install=check:DNAfusion.install-out.txt --library=E:\biocbuild\bbs-3.21-bioc\R\library --no-vignettes --timings DNAfusion_1.10.0.tar.gz StartedAt: 2025-08-15 01:39:17 -0400 (Fri, 15 Aug 2025) EndedAt: 2025-08-15 01:50:36 -0400 (Fri, 15 Aug 2025) EllapsedTime: 678.9 seconds RetCode: 0 Status: OK CheckDir: DNAfusion.Rcheck Warnings: 0