Package: DNAcycP2 Version: 1.2.0 Command: /home/biocbuild/R/R/bin/R CMD check --install=check:DNAcycP2.install-out.txt --library=/home/biocbuild/R/R/site-library --no-vignettes --timings DNAcycP2_1.2.0.tar.gz StartedAt: 2025-11-14 08:58:01 -0000 (Fri, 14 Nov 2025) EndedAt: 2025-11-14 08:59:41 -0000 (Fri, 14 Nov 2025) EllapsedTime: 100.1 seconds RetCode: 0 Status: OK CheckDir: DNAcycP2.Rcheck Warnings: 0