Package: DNAcycP2 Version: 1.2.0 Command: /home/biocbuild/bbs-3.22-bioc/R/bin/R CMD check --install=check:DNAcycP2.install-out.txt --library=/home/biocbuild/bbs-3.22-bioc/R/site-library --timings DNAcycP2_1.2.0.tar.gz StartedAt: 2025-11-09 23:17:48 -0500 (Sun, 09 Nov 2025) EndedAt: 2025-11-09 23:20:10 -0500 (Sun, 09 Nov 2025) EllapsedTime: 142.1 seconds RetCode: 0 Status: OK CheckDir: DNAcycP2.Rcheck Warnings: 0