Package: DNAcopy Version: 1.84.0 Command: /home/biocbuild/R/R/bin/R CMD INSTALL DNAcopy StartedAt: 2025-11-17 21:02:38 -0000 (Mon, 17 Nov 2025) EndedAt: 2025-11-17 21:02:58 -0000 (Mon, 17 Nov 2025) EllapsedTime: 20.2 seconds RetCode: 0 Status: OK