Package: DNAcopy Version: 1.84.0 Command: /home/biocbuild/R/R/bin/R CMD check --install=check:DNAcopy.install-out.txt --library=/home/biocbuild/R/R/site-library --no-vignettes --timings DNAcopy_1.84.0.tar.gz StartedAt: 2025-11-21 10:07:55 -0000 (Fri, 21 Nov 2025) EndedAt: 2025-11-21 10:08:34 -0000 (Fri, 21 Nov 2025) EllapsedTime: 39.0 seconds RetCode: 0 Status: OK CheckDir: DNAcopy.Rcheck Warnings: 0