Package: DNAcopy Version: 1.84.0 Command: /home/biocbuild/R/R/bin/R CMD build --keep-empty-dirs --no-resave-data DNAcopy StartedAt: 2025-11-21 01:58:35 -0000 (Fri, 21 Nov 2025) EndedAt: 2025-11-21 01:58:46 -0000 (Fri, 21 Nov 2025) EllapsedTime: 11.0 seconds RetCode: 0 Status: OK PackageFile: DNAcopy_1.84.0.tar.gz PackageFileSize: 395.6 KiB