Package: DNAcopy Version: 1.84.0 Command: /home/biocbuild/bbs-3.22-bioc/R/bin/R CMD INSTALL DNAcopy StartedAt: 2025-11-06 15:01:27 -0500 (Thu, 06 Nov 2025) EndedAt: 2025-11-06 15:01:37 -0500 (Thu, 06 Nov 2025) EllapsedTime: 10.0 seconds RetCode: 0 Status: OK