Package: DNAcopy Version: 1.84.0 Command: /home/biocbuild/bbs-3.22-bioc/R/bin/R CMD check --install=check:DNAcopy.install-out.txt --library=/home/biocbuild/bbs-3.22-bioc/R/site-library --timings DNAcopy_1.84.0.tar.gz StartedAt: 2025-11-06 23:05:50 -0500 (Thu, 06 Nov 2025) EndedAt: 2025-11-06 23:06:15 -0500 (Thu, 06 Nov 2025) EllapsedTime: 25.1 seconds RetCode: 0 Status: OK CheckDir: DNAcopy.Rcheck Warnings: 0