Back to Multiple platform build/check report for BioC 3.22:   simplified   long
ABC[D]EFGHIJKLMNOPQRSTUVWXYZ

This page was generated on 2025-11-07 11:59 -0500 (Fri, 07 Nov 2025).

HostnameOSArch (*)R versionInstalled pkgs
nebbiolo2Linux (Ubuntu 24.04.3 LTS)x86_644.5.1 Patched (2025-08-23 r88802) -- "Great Square Root" 4902
kjohnson3macOS 13.7.7 Venturaarm644.5.1 Patched (2025-09-10 r88807) -- "Great Square Root" 4638
Click on any hostname to see more info about the system (e.g. compilers)      (*) as reported by 'uname -p', except on Windows and Mac OS X

All results for package DNAcopy


To the developers/maintainers of the DNAcopy package:
- Allow up to 24 hours (and sometimes 48 hours) for your latest push to git@git.bioconductor.org:packages/DNAcopy.git to reflect on this report. See Troubleshooting Build Report for more information.
- Use the following Renviron settings to reproduce errors and warnings.
- If 'R CMD check' started to fail recently on the Linux builder(s) over a missing dependency, add the missing dependency to 'Suggests:' in your DESCRIPTION file. See Renviron.bioc for more information.

raw results

Package 612/2361HostnameOS / ArchINSTALLBUILDCHECKBUILD BIN
DNAcopy 1.84.0  (landing page)
Venkatraman E. Seshan
Snapshot Date: 2025-11-06 13:45 -0500 (Thu, 06 Nov 2025)
git_url: https://git.bioconductor.org/packages/DNAcopy
git_branch: RELEASE_3_22
git_last_commit: 174ee61
git_last_commit_date: 2025-10-29 09:54:58 -0500 (Wed, 29 Oct 2025)
nebbiolo2Linux (Ubuntu 24.04.3 LTS) / x86_64  OK    OK    OK  UNNEEDED, same version is already published
kjohnson3macOS 13.7.7 Ventura / arm64  OK    OK    OK    OK  UNNEEDED, same version is already published



Results for Bioconductor software packages that depend directly on package DNAcopy

QUICK STATSOS / ArchINSTALLBUILDCHECKBUILD BIN
nebbiolo2Linux (Ubuntu 24.04.3 LTS) / x86_64
0118
0118
00513
kjohnson3macOS 13.7.7 Ventura / arm64
0118
0118
00414
0018
Package 1/19HostnameOS / ArchINSTALLBUILDCHECKBUILD BIN
ADaCGH2 2.50.0  (landing page)
Ramon Diaz-Uriarte
git_last_commit: 62d2794
git_last_commit_date: 2025-10-29 10:06:05 -0500
nebbiolo2Linux (Ubuntu 24.04.3 LTS) / x86_64  OK    OK    OK  UNNEEDED, same version is already published
kjohnson3macOS 13.7.7 Ventura / arm64  OK    OK    OK    OK  UNNEEDED, same version is already published
Package 2/19HostnameOS / ArchINSTALLBUILDCHECKBUILD BIN
CGHcall 2.72.0  (landing page)
Mark van de Wiel
git_last_commit: 08e37a0
git_last_commit_date: 2025-10-29 09:59:47 -0500
nebbiolo2Linux (Ubuntu 24.04.3 LTS) / x86_64  OK    OK    WARNINGS  UNNEEDED, same version is already published
kjohnson3macOS 13.7.7 Ventura / arm64  OK    OK    WARNINGS    OK  UNNEEDED, same version is already published
Package 3/19HostnameOS / ArchINSTALLBUILDCHECKBUILD BIN
cghMCR 1.68.0  (landing page)
J. Zhang
git_last_commit: 5d9a32a
git_last_commit_date: 2025-10-29 09:57:58 -0500
nebbiolo2Linux (Ubuntu 24.04.3 LTS) / x86_64  OK    OK    WARNINGS  UNNEEDED, same version is already published
kjohnson3macOS 13.7.7 Ventura / arm64  OK    OK    WARNINGS    OK  UNNEEDED, same version is already published
Package 4/19HostnameOS / ArchINSTALLBUILDCHECKBUILD BIN
ChAMP 2.40.0  (landing page)
Yuan Tian
git_last_commit: fa068cf
git_last_commit_date: 2025-10-29 10:17:05 -0500
nebbiolo2Linux (Ubuntu 24.04.3 LTS) / x86_64  OK    OK    WARNINGS  UNNEEDED, same version is already published
kjohnson3macOS 13.7.7 Ventura / arm64  OK    OK    WARNINGS    OK  UNNEEDED, same version is already published
Package 5/19HostnameOS / ArchINSTALLBUILDCHECKBUILD BIN
cn.farms 1.58.0  (landing page)
Andreas Mitterecker
git_last_commit: 547c019
git_last_commit_date: 2025-10-29 10:07:06 -0500
nebbiolo2Linux (Ubuntu 24.04.3 LTS) / x86_64  OK    OK    OK  UNNEEDED, same version is already published
kjohnson3macOS 13.7.7 Ventura / arm64  OK    OK    OK    OK  UNNEEDED, same version is already published
Package 6/19HostnameOS / ArchINSTALLBUILDCHECKBUILD BIN
CNAnorm 1.56.0  (landing page)
Stefano Berri
git_last_commit: 33c151d
git_last_commit_date: 2025-10-29 10:09:07 -0500
nebbiolo2Linux (Ubuntu 24.04.3 LTS) / x86_64  OK    OK    OK  UNNEEDED, same version is already published
kjohnson3macOS 13.7.7 Ventura / arm64  OK    OK    OK    OK  UNNEEDED, same version is already published
Package 7/19HostnameOS / ArchINSTALLBUILDCHECKBUILD BIN
CNVrd2 1.48.0  (landing page)
Hoang Tan Nguyen
git_last_commit: b4c107b
git_last_commit_date: 2025-10-29 10:17:16 -0500
nebbiolo2Linux (Ubuntu 24.04.3 LTS) / x86_64  OK    OK    OK  UNNEEDED, same version is already published
kjohnson3macOS 13.7.7 Ventura / arm64  OK    OK    OK    OK  UNNEEDED, same version is already published
Package 8/19HostnameOS / ArchINSTALLBUILDCHECKBUILD BIN
conumee 1.44.0  (landing page)
Volker Hovestadt
git_last_commit: 9d7891e
git_last_commit_date: 2025-10-29 10:25:31 -0500
nebbiolo2Linux (Ubuntu 24.04.3 LTS) / x86_64  OK    OK    OK  UNNEEDED, same version is already published
kjohnson3macOS 13.7.7 Ventura / arm64  OK    OK    OK    OK  UNNEEDED, same version is already published
Package 9/19HostnameOS / ArchINSTALLBUILDCHECKBUILD BIN
CRImage 1.58.0  (landing page)
Henrik Failmezger , Yinyin Yuan
git_last_commit: 74fd591
git_last_commit_date: 2025-10-29 10:05:56 -0500
nebbiolo2Linux (Ubuntu 24.04.3 LTS) / x86_64  OK    OK    OK  UNNEEDED, same version is already published
kjohnson3macOS 13.7.7 Ventura / arm64  OK    OK    OK    OK  UNNEEDED, same version is already published
Package 10/19HostnameOS / ArchINSTALLBUILDCHECKBUILD BIN
GWASTools 1.56.0  (landing page)
Stephanie M. Gogarten
git_last_commit: 121c763
git_last_commit_date: 2025-10-29 10:09:16 -0500
nebbiolo2Linux (Ubuntu 24.04.3 LTS) / x86_64  OK    OK    OK  UNNEEDED, same version is already published
kjohnson3macOS 13.7.7 Ventura / arm64  OK    OK    OK    OK  UNNEEDED, same version is already published
Package 11/19HostnameOS / ArchINSTALLBUILDCHECKBUILD BIN
maftools 2.26.0  (landing page)
Anand Mayakonda
git_last_commit: 9e83363
git_last_commit_date: 2025-10-29 10:33:17 -0500
nebbiolo2Linux (Ubuntu 24.04.3 LTS) / x86_64  OK    OK    WARNINGS  UNNEEDED, same version is already published
kjohnson3macOS 13.7.7 Ventura / arm64  OK    OK    OK    OK  UNNEEDED, same version is already published
Package 12/19HostnameOS / ArchINSTALLBUILDCHECKBUILD BIN
MDTS 1.30.0  (landing page)
Jack M.. Fu
git_last_commit: 2e2c502
git_last_commit_date: 2025-10-29 10:43:45 -0500
nebbiolo2Linux (Ubuntu 24.04.3 LTS) / x86_64  OK    OK    OK  UNNEEDED, same version is already published
kjohnson3macOS 13.7.7 Ventura / arm64  OK    OK    OK    OK  UNNEEDED, same version is already published
Package 13/19HostnameOS / ArchINSTALLBUILDCHECKBUILD BIN
MEDIPS 1.62.0  (landing page)
Lukas Chavez
git_last_commit: 8748557
git_last_commit_date: 2025-10-29 10:06:09 -0500
nebbiolo2Linux (Ubuntu 24.04.3 LTS) / x86_64  OK    OK    OK  UNNEEDED, same version is already published
kjohnson3macOS 13.7.7 Ventura / arm64  OK    OK    OK    OK  UNNEEDED, same version is already published
Package 14/19HostnameOS / ArchINSTALLBUILDCHECKBUILD BIN
MinimumDistance 1.54.0  (landing page)
Robert Scharpf
git_last_commit: ac79af7
git_last_commit_date: 2025-10-29 10:10:57 -0500
nebbiolo2Linux (Ubuntu 24.04.3 LTS) / x86_64  OK    OK    WARNINGS  UNNEEDED, same version is already published
kjohnson3macOS 13.7.7 Ventura / arm64  OK    OK    WARNINGS    OK  UNNEEDED, same version is already published
Package 15/19HostnameOS / ArchINSTALLBUILDCHECKBUILD BIN
PureCN 2.16.0  (landing page)
Markus Riester
git_last_commit: c7ace8b
git_last_commit_date: 2025-10-29 10:31:57 -0500
nebbiolo2Linux (Ubuntu 24.04.3 LTS) / x86_64  OK    OK    OK  UNNEEDED, same version is already published
kjohnson3macOS 13.7.7 Ventura / arm64  OK    OK    OK    OK  UNNEEDED, same version is already published
Package 16/19HostnameOS / ArchINSTALLBUILDCHECKBUILD BIN
QDNAseq 1.46.0  (landing page)
Daoud Sie
git_last_commit: 00b06a1
git_last_commit_date: 2025-10-29 10:18:34 -0500
nebbiolo2Linux (Ubuntu 24.04.3 LTS) / x86_64  OK    OK    OK  UNNEEDED, same version is already published
kjohnson3macOS 13.7.7 Ventura / arm64  OK    OK    OK    OK  UNNEEDED, same version is already published
Package 17/19HostnameOS / ArchINSTALLBUILDCHECKBUILD BIN
rCGH 1.40.0  (landing page)
Frederic Commo
git_last_commit: 2a97521
git_last_commit_date: 2025-10-29 10:26:46 -0500
nebbiolo2Linux (Ubuntu 24.04.3 LTS) / x86_64  OK    OK    OK  UNNEEDED, same version is already published
kjohnson3macOS 13.7.7 Ventura / arm64  OK    OK    OK    OK  UNNEEDED, same version is already published
Package 18/19HostnameOS / ArchINSTALLBUILDCHECKBUILD BIN
Repitools 1.56.0  (landing page)
Mark Robinson
git_last_commit: e46521a
git_last_commit_date: 2025-10-29 10:08:02 -0500
nebbiolo2Linux (Ubuntu 24.04.3 LTS) / x86_64  ERROR    ERROR  skipped
kjohnson3macOS 13.7.7 Ventura / arm64  ERROR    ERROR  skippedskipped
Package 19/19HostnameOS / ArchINSTALLBUILDCHECKBUILD BIN
SCOPE 1.22.0  (landing page)
Rujin Wang
git_last_commit: a28af97
git_last_commit_date: 2025-10-29 10:56:53 -0500
nebbiolo2Linux (Ubuntu 24.04.3 LTS) / x86_64  OK    OK    OK  UNNEEDED, same version is already published
kjohnson3macOS 13.7.7 Ventura / arm64  OK    OK    OK    OK  UNNEEDED, same version is already published