Package: DNABarcodes Version: 1.39.0 Command: /home/biocbuild/R/R/bin/R CMD check --install=check:DNABarcodes.install-out.txt --library=/home/biocbuild/R/R/site-library --no-vignettes --timings DNABarcodes_1.39.0.tar.gz StartedAt: 2025-10-21 07:37:38 -0000 (Tue, 21 Oct 2025) EndedAt: 2025-10-21 07:38:28 -0000 (Tue, 21 Oct 2025) EllapsedTime: 50.0 seconds RetCode: 0 Status: OK CheckDir: DNABarcodes.Rcheck Warnings: 0