Package: DNABarcodes Version: 1.40.0 Command: /home/biocbuild/bbs-3.22-bioc/R/bin/R CMD INSTALL DNABarcodes StartedAt: 2025-11-05 15:12:44 -0500 (Wed, 05 Nov 2025) EndedAt: 2025-11-05 15:13:58 -0500 (Wed, 05 Nov 2025) EllapsedTime: 73.8 seconds RetCode: 0 Status: OK